BEGIN:VCALENDAR
VERSION:2.0
PRODID:-//New Zone+ Application - ECPv6.15.20//NONSGML v1.0//EN
CALSCALE:GREGORIAN
METHOD:PUBLISH
X-WR-CALNAME:New Zone+ Application
X-ORIGINAL-URL:https://parem.seasaareteater.ee
X-WR-CALDESC:Events for New Zone+ Application
REFRESH-INTERVAL;VALUE=DURATION:PT1H
X-Robots-Tag:noindex
X-PUBLISHED-TTL:PT1H
BEGIN:VTIMEZONE
TZID:Europe/Tallinn
BEGIN:DAYLIGHT
TZOFFSETFROM:+0200
TZOFFSETTO:+0300
TZNAME:EEST
DTSTART:20250330T010000
END:DAYLIGHT
BEGIN:STANDARD
TZOFFSETFROM:+0300
TZOFFSETTO:+0200
TZNAME:EET
DTSTART:20251026T010000
END:STANDARD
BEGIN:DAYLIGHT
TZOFFSETFROM:+0200
TZOFFSETTO:+0300
TZNAME:EEST
DTSTART:20260329T010000
END:DAYLIGHT
BEGIN:STANDARD
TZOFFSETFROM:+0300
TZOFFSETTO:+0200
TZNAME:EET
DTSTART:20261025T010000
END:STANDARD
BEGIN:DAYLIGHT
TZOFFSETFROM:+0200
TZOFFSETTO:+0300
TZNAME:EEST
DTSTART:20270328T010000
END:DAYLIGHT
BEGIN:STANDARD
TZOFFSETFROM:+0300
TZOFFSETTO:+0200
TZNAME:EET
DTSTART:20271031T010000
END:STANDARD
END:VTIMEZONE
BEGIN:VEVENT
DTSTART;TZID=Europe/Tallinn:20260130T210000
DTEND;TZID=Europe/Tallinn:20260130T220000
DTSTAMP:20260420T184852
CREATED:20250913T085748Z
LAST-MODIFIED:20251208T225423Z
UID:189-1769806800-1769810400@parem.seasaareteater.ee
SUMMARY:Hapnik
DESCRIPTION:Hapnikuleke sunnib meeskonda silmitsi seisma mitte ainult rikkest tulenevate otseste ohtudega\, vaid\nka ellujäämist puudutavate sügavate moraalsete küsimustega. Iga hingetõmme võib olla viimane. Kes otsustab\, kellel\non õigus jääda? \nAllikas | Stanisław Lem\nLavastaja | Ain Saviauk\nKristjan Kaarjärv | Mills\nKait Aidnik | Blom\nAI n | Argos \nosta pilet
URL:https://parem.seasaareteater.ee/etendus/hapnik-5/
LOCATION:Voore Seltsimaja\, Lossi\, Voore\, Jõgeva maakond\, 49324\, Estonia
ATTACH;FMTTYPE=image/jpeg:https://parem.seasaareteater.ee/wp-content/uploads/2025/06/HapnikPU.jpg
ORGANIZER;CN="Seasaare":MAILTO:seasaare@gmail.com
END:VEVENT
END:VCALENDAR