BEGIN:VCALENDAR
VERSION:2.0
PRODID:-//New Zone+ Application - ECPv6.15.20//NONSGML v1.0//EN
CALSCALE:GREGORIAN
METHOD:PUBLISH
X-WR-CALNAME:New Zone+ Application
X-ORIGINAL-URL:https://parem.seasaareteater.ee
X-WR-CALDESC:Events for New Zone+ Application
REFRESH-INTERVAL;VALUE=DURATION:PT1H
X-Robots-Tag:noindex
X-PUBLISHED-TTL:PT1H
BEGIN:VTIMEZONE
TZID:Europe/Tallinn
BEGIN:DAYLIGHT
TZOFFSETFROM:+0200
TZOFFSETTO:+0300
TZNAME:EEST
DTSTART:20250330T010000
END:DAYLIGHT
BEGIN:STANDARD
TZOFFSETFROM:+0300
TZOFFSETTO:+0200
TZNAME:EET
DTSTART:20251026T010000
END:STANDARD
BEGIN:DAYLIGHT
TZOFFSETFROM:+0200
TZOFFSETTO:+0300
TZNAME:EEST
DTSTART:20260329T010000
END:DAYLIGHT
BEGIN:STANDARD
TZOFFSETFROM:+0300
TZOFFSETTO:+0200
TZNAME:EET
DTSTART:20261025T010000
END:STANDARD
BEGIN:DAYLIGHT
TZOFFSETFROM:+0200
TZOFFSETTO:+0300
TZNAME:EEST
DTSTART:20270328T010000
END:DAYLIGHT
BEGIN:STANDARD
TZOFFSETFROM:+0300
TZOFFSETTO:+0200
TZNAME:EET
DTSTART:20271031T010000
END:STANDARD
END:VTIMEZONE
BEGIN:VEVENT
DTSTART;TZID=Europe/Tallinn:20260212T203000
DTEND;TZID=Europe/Tallinn:20260212T210000
DTSTAMP:20260420T184944
CREATED:20251208T175301Z
LAST-MODIFIED:20260108T172817Z
UID:700-1770928200-1770930000@parem.seasaareteater.ee
SUMMARY:Duell
DESCRIPTION:Ema. Isa. Poeg. Ja Tema. Keegi\, kes võiks olla oodatud. Aga kui ei ole?\nMilline on üks ema? Naeratav\, lahke\, armastav\, hooliv. Vähemalt võiks ju olla.\nAga kui ema on kaitsev. Liiga kaitsev\, liiga hooliv\, liiga hoidev\, mis siis saab?\nKarikatuurne lavastus ühe tavalise eesti pere elust. Või siiski mitte? \nAutor ja lavastaja Janno Puusepp\nLaval Anne-Mai Tevahi\, \nReet Raudsepp\, \nJaanus Kukk \nja Mikk Sügis\nKoreograaf Aleks Mathias Viidik
URL:https://parem.seasaareteater.ee/etendus/duell-2/
LOCATION:Valjala Rahvamaja\, Posti tn 39\, Valjala\, Saare maakond\, 94302\, Estonia
ATTACH;FMTTYPE=image/jpeg:https://parem.seasaareteater.ee/wp-content/uploads/2025/06/duellKo.jpg
ORGANIZER;CN="Seasaare":MAILTO:seasaare@gmail.com
END:VEVENT
END:VCALENDAR