BEGIN:VCALENDAR
VERSION:2.0
PRODID:-//New Zone+ Application - ECPv6.15.20//NONSGML v1.0//EN
CALSCALE:GREGORIAN
METHOD:PUBLISH
X-ORIGINAL-URL:https://parem.seasaareteater.ee
X-WR-CALDESC:Events for New Zone+ Application
REFRESH-INTERVAL;VALUE=DURATION:PT1H
X-Robots-Tag:noindex
X-PUBLISHED-TTL:PT1H
BEGIN:VTIMEZONE
TZID:Europe/Tallinn
BEGIN:DAYLIGHT
TZOFFSETFROM:+0200
TZOFFSETTO:+0300
TZNAME:EEST
DTSTART:20240331T010000
END:DAYLIGHT
BEGIN:STANDARD
TZOFFSETFROM:+0300
TZOFFSETTO:+0200
TZNAME:EET
DTSTART:20241027T010000
END:STANDARD
BEGIN:DAYLIGHT
TZOFFSETFROM:+0200
TZOFFSETTO:+0300
TZNAME:EEST
DTSTART:20250330T010000
END:DAYLIGHT
BEGIN:STANDARD
TZOFFSETFROM:+0300
TZOFFSETTO:+0200
TZNAME:EET
DTSTART:20251026T010000
END:STANDARD
BEGIN:DAYLIGHT
TZOFFSETFROM:+0200
TZOFFSETTO:+0300
TZNAME:EEST
DTSTART:20260329T010000
END:DAYLIGHT
BEGIN:STANDARD
TZOFFSETFROM:+0300
TZOFFSETTO:+0200
TZNAME:EET
DTSTART:20261025T010000
END:STANDARD
END:VTIMEZONE
BEGIN:VEVENT
DTSTART;TZID=Europe/Tallinn:20250928T200000
DTEND;TZID=Europe/Tallinn:20250928T200000
DTSTAMP:20260421T043611
CREATED:20250913T085746Z
LAST-MODIFIED:20250920T192936Z
UID:175-1759089600-1759089600@parem.seasaareteater.ee
SUMMARY:Öö
DESCRIPTION:Mälestuste usaldusväärsus on küsitav. Kas mälestused on alati tõesed. Kas me tegelikult tahame mäletada? Või pigem\, kas me julgeme seda?\nDraama ühes vaatuses \nAllikas | AM.Danielsi näidendi ainetel\nLavastaja | Ain Saviauk\nKatariina Raudsepp | MONICA\nReet Raudsepp | UURIJA \nTõlkija Reet Raudsepp \n  \nosta pilet
URL:https://parem.seasaareteater.ee/etendus/oo/
LOCATION:Seasaare teater\, Väike-Turu 3\, Viljandi\, Viljandi\, 71003\, Estonia
ATTACH;FMTTYPE=image/jpeg:https://parem.seasaareteater.ee/wp-content/uploads/2025/06/PimedusRo.jpg
ORGANIZER;CN="Seasaare":MAILTO:seasaare@gmail.com
END:VEVENT
END:VCALENDAR