BEGIN:VCALENDAR
VERSION:2.0
PRODID:-//New Zone+ Application - ECPv6.15.20//NONSGML v1.0//EN
CALSCALE:GREGORIAN
METHOD:PUBLISH
X-WR-CALNAME:New Zone+ Application
X-ORIGINAL-URL:https://parem.seasaareteater.ee
X-WR-CALDESC:Events for New Zone+ Application
REFRESH-INTERVAL;VALUE=DURATION:PT1H
X-Robots-Tag:noindex
X-PUBLISHED-TTL:PT1H
BEGIN:VTIMEZONE
TZID:Europe/Tallinn
BEGIN:DAYLIGHT
TZOFFSETFROM:+0200
TZOFFSETTO:+0300
TZNAME:EEST
DTSTART:20250330T010000
END:DAYLIGHT
BEGIN:STANDARD
TZOFFSETFROM:+0300
TZOFFSETTO:+0200
TZNAME:EET
DTSTART:20251026T010000
END:STANDARD
BEGIN:DAYLIGHT
TZOFFSETFROM:+0200
TZOFFSETTO:+0300
TZNAME:EEST
DTSTART:20260329T010000
END:DAYLIGHT
BEGIN:STANDARD
TZOFFSETFROM:+0300
TZOFFSETTO:+0200
TZNAME:EET
DTSTART:20261025T010000
END:STANDARD
BEGIN:DAYLIGHT
TZOFFSETFROM:+0200
TZOFFSETTO:+0300
TZNAME:EEST
DTSTART:20270328T010000
END:DAYLIGHT
BEGIN:STANDARD
TZOFFSETFROM:+0300
TZOFFSETTO:+0200
TZNAME:EET
DTSTART:20271031T010000
END:STANDARD
END:VTIMEZONE
BEGIN:VEVENT
DTSTART;TZID=Europe/Tallinn:20260124T190000
DTEND;TZID=Europe/Tallinn:20260124T200000
DTSTAMP:20260421T072621
CREATED:20251208T170126Z
LAST-MODIFIED:20260116T132750Z
UID:686-1769281200-1769284800@parem.seasaareteater.ee
SUMMARY:Peegli valguses
DESCRIPTION:Näidend jutustab liigutava loo vananevast näitlejannast\, kes kunagi nautis tähelepanu keskpunktis olemist tunnustatud staarina. Nüüd\, aja möödudes\, on ta leidnud end tänapäeva teatri vajaduste jaoks üleliigseks. Vananemise ja ebaolulisuse väljakutsetega silmitsi seistes näeb ta vaeva\, et leida oma koht muutuvas maailmas. \nAutor | Janno Puusepp\nLavastaja | Ain Saviauk\nLaval | Reet Raudsepp
URL:https://parem.seasaareteater.ee/etendus/peegli-valguses-4/
LOCATION:Valga Kultuurikeskus\, Kesk 1\, Valga\, 68203\, Estonia
ATTACH;FMTTYPE=image/webp:https://parem.seasaareteater.ee/wp-content/uploads/2026/01/Peegel_karusCompress.webp
ORGANIZER;CN="Eesti Harrastusteatrite Liit":MAILTO:harrastusteatriteliit@gmail.com
END:VEVENT
BEGIN:VEVENT
DTSTART;TZID=Europe/Tallinn:20260130T210000
DTEND;TZID=Europe/Tallinn:20260130T220000
DTSTAMP:20260421T072621
CREATED:20250913T085748Z
LAST-MODIFIED:20251208T225423Z
UID:189-1769806800-1769810400@parem.seasaareteater.ee
SUMMARY:Hapnik
DESCRIPTION:Hapnikuleke sunnib meeskonda silmitsi seisma mitte ainult rikkest tulenevate otseste ohtudega\, vaid\nka ellujäämist puudutavate sügavate moraalsete küsimustega. Iga hingetõmme võib olla viimane. Kes otsustab\, kellel\non õigus jääda? \nAllikas | Stanisław Lem\nLavastaja | Ain Saviauk\nKristjan Kaarjärv | Mills\nKait Aidnik | Blom\nAI n | Argos \nosta pilet
URL:https://parem.seasaareteater.ee/etendus/hapnik-5/
LOCATION:Voore Seltsimaja\, Lossi\, Voore\, Jõgeva maakond\, 49324\, Estonia
ATTACH;FMTTYPE=image/jpeg:https://parem.seasaareteater.ee/wp-content/uploads/2025/06/HapnikPU.jpg
ORGANIZER;CN="Seasaare":MAILTO:seasaare@gmail.com
END:VEVENT
BEGIN:VEVENT
DTSTART;TZID=Europe/Tallinn:20260212T190000
DTEND;TZID=Europe/Tallinn:20260212T200000
DTSTAMP:20260421T072621
CREATED:20251208T175301Z
LAST-MODIFIED:20251208T225154Z
UID:699-1770922800-1770926400@parem.seasaareteater.ee
SUMMARY:Raamid
DESCRIPTION:Me elame raamide maailmas. Raamide\, mille me ise oleme enda jaoks loonud. Elu kipub aga raamid pahupidi keerama\, teist värvi värvima või hoopiski ära lõhkuma. Kas ja kui palju oleme valmis tooma ohvreid\, et säilitada inimlikkust? Kus sa oled\, ema? Kus oleme meie? Ja kus olen MINA? See on lugu perekonnast\, kus saatus on vangistanud kõiki raamidesse.​ \nAutor ja lavastaja Janno Puusepp\nKunstnik Anne-Mai Tevahi\nKoreograaf Marko Reitalu\nValguskunstnik Jarmo Põlluste\nMängivad\nReet Raudsepp\, Anne-Mai Tevahi\, Jaanus Kukk​
URL:https://parem.seasaareteater.ee/etendus/raamid-3/
LOCATION:Valjala Rahvamaja\, Posti tn 39\, Valjala\, Saare maakond\, 94302\, Estonia
ATTACH;FMTTYPE=image/jpeg:https://parem.seasaareteater.ee/wp-content/uploads/2025/09/RaamidKarus.jpg
ORGANIZER;CN="Seasaare":MAILTO:seasaare@gmail.com
END:VEVENT
BEGIN:VEVENT
DTSTART;TZID=Europe/Tallinn:20260212T203000
DTEND;TZID=Europe/Tallinn:20260212T210000
DTSTAMP:20260421T072621
CREATED:20251208T175301Z
LAST-MODIFIED:20260108T172817Z
UID:700-1770928200-1770930000@parem.seasaareteater.ee
SUMMARY:Duell
DESCRIPTION:Ema. Isa. Poeg. Ja Tema. Keegi\, kes võiks olla oodatud. Aga kui ei ole?\nMilline on üks ema? Naeratav\, lahke\, armastav\, hooliv. Vähemalt võiks ju olla.\nAga kui ema on kaitsev. Liiga kaitsev\, liiga hooliv\, liiga hoidev\, mis siis saab?\nKarikatuurne lavastus ühe tavalise eesti pere elust. Või siiski mitte? \nAutor ja lavastaja Janno Puusepp\nLaval Anne-Mai Tevahi\, \nReet Raudsepp\, \nJaanus Kukk \nja Mikk Sügis\nKoreograaf Aleks Mathias Viidik
URL:https://parem.seasaareteater.ee/etendus/duell-2/
LOCATION:Valjala Rahvamaja\, Posti tn 39\, Valjala\, Saare maakond\, 94302\, Estonia
ATTACH;FMTTYPE=image/jpeg:https://parem.seasaareteater.ee/wp-content/uploads/2025/06/duellKo.jpg
ORGANIZER;CN="Seasaare":MAILTO:seasaare@gmail.com
END:VEVENT
BEGIN:VEVENT
DTSTART;TZID=Europe/Tallinn:20260213T180000
DTEND;TZID=Europe/Tallinn:20260213T190000
DTSTAMP:20260421T072621
CREATED:20251208T175301Z
LAST-MODIFIED:20260108T172914Z
UID:701-1771005600-1771009200@parem.seasaareteater.ee
SUMMARY:Raamid
DESCRIPTION:Me elame raamide maailmas. Raamide\, mille me ise oleme enda jaoks loonud. Elu kipub aga raamid pahupidi keerama\, teist värvi värvima või hoopiski ära lõhkuma. Kas ja kui palju oleme valmis tooma ohvreid\, et säilitada inimlikkust? Kus sa oled\, ema? Kus oleme meie? Ja kus olen MINA? See on lugu perekonnast\, kus saatus on vangistanud kõiki raamidesse.​ \nAutor ja lavastaja Janno Puusepp\nKunstnik Anne-Mai Tevahi\nKoreograaf Marko Reitalu\nValguskunstnik Jarmo Põlluste\nMängivad\nReet Raudsepp\, Anne-Mai Tevahi\, Jaanus Kukk​
URL:https://parem.seasaareteater.ee/etendus/raamid-4/
LOCATION:Hellamaa Külakeskus\, Külakeskuse\, Hellamaa küla\, Muhu vald\, 94741\, Estonia
ATTACH;FMTTYPE=image/jpeg:https://parem.seasaareteater.ee/wp-content/uploads/2025/09/RaamidKarus.jpg
ORGANIZER;CN="Seasaare":MAILTO:seasaare@gmail.com
END:VEVENT
BEGIN:VEVENT
DTSTART;TZID=Europe/Tallinn:20260213T193000
DTEND;TZID=Europe/Tallinn:20260213T203000
DTSTAMP:20260421T072621
CREATED:20251208T175301Z
LAST-MODIFIED:20260108T172956Z
UID:702-1771011000-1771014600@parem.seasaareteater.ee
SUMMARY:Duell
DESCRIPTION:Ema. Isa. Poeg. Ja Tema. Keegi\, kes võiks olla oodatud. Aga kui ei ole?\nMilline on üks ema? Naeratav\, lahke\, armastav\, hooliv. Vähemalt võiks ju olla.\nAga kui ema on kaitsev. Liiga kaitsev\, liiga hooliv\, liiga hoidev\, mis siis saab?\nKarikatuurne lavastus ühe tavalise eesti pere elust. Või siiski mitte? \nAutor ja lavastaja Janno Puusepp\nLaval Anne-Mai Tevahi\, \nReet Raudsepp\, \nJaanus Kukk \nja Mikk Sügis\nKoreograaf Aleks Mathias Viidik
URL:https://parem.seasaareteater.ee/etendus/duell-3/
LOCATION:Hellamaa Külakeskus\, Külakeskuse\, Hellamaa küla\, Muhu vald\, 94741\, Estonia
ATTACH;FMTTYPE=image/jpeg:https://parem.seasaareteater.ee/wp-content/uploads/2025/06/duellKo.jpg
ORGANIZER;CN="Seasaare":MAILTO:seasaare@gmail.com
END:VEVENT
BEGIN:VEVENT
DTSTART;TZID=Europe/Tallinn:20260514T190000
DTEND;TZID=Europe/Tallinn:20260514T200000
DTSTAMP:20260421T072621
CREATED:20250912T183753Z
LAST-MODIFIED:20260417T140218Z
UID:116-1778785200-1778788800@parem.seasaareteater.ee
SUMMARY:Peegli valguses
DESCRIPTION:Näidend jutustab liigutava loo vananevast näitlejannast\, kes kunagi nautis tähelepanu keskpunktis olemist tunnustatud staarina. Nüüd\, aja möödudes\, on ta leidnud end tänapäeva teatri vajaduste jaoks üleliigseks. Vananemise ja ebaolulisuse väljakutsetega silmitsi seistes näeb ta vaeva\, et leida oma koht muutuvas maailmas. \nAutor | Janno Puusepp\nLavastaja | Ain Saviauk\nLaval | Reet Raudsepp \n  \nosta pilet
URL:https://parem.seasaareteater.ee/etendus/peegli-valguses/
LOCATION:Seasaare teater\, Väike-Turu 3\, Viljandi\, Viljandi\, 71003\, Estonia
ORGANIZER;CN="Seasaare":MAILTO:seasaare@gmail.com
END:VEVENT
BEGIN:VEVENT
DTSTART;TZID=Europe/Tallinn:20260630T080000
DTEND;TZID=Europe/Tallinn:20260630T170000
DTSTAMP:20260421T072621
CREATED:20260411T094728Z
LAST-MODIFIED:20260411T094728Z
UID:875-1782806400-1782838800@parem.seasaareteater.ee
SUMMARY:Versus
DESCRIPTION:
URL:https://parem.seasaareteater.ee/etendus/versus/
ATTACH;FMTTYPE=image/jpeg:https://parem.seasaareteater.ee/wp-content/uploads/2026/04/Tulemas.jpg
END:VEVENT
END:VCALENDAR